BEGIN:VCALENDAR
VERSION:2.0
PRODID:https://www.kufer.de/kuferweb / DE
METHOD:PUBLISH
CALSCALE:GREGORIAN
X-WR-TIMEZONE:Europe/Berlin
BEGIN:VTIMEZONE
TZID:Europe/Berlin
X-LIC-LOCATION:Europe/Berlin
BEGIN:DAYLIGHT
TZOFFSETFROM:+0100
TZOFFSETTO:+0200
TZNAME:CEST
DTSTART:19700329T020000
RRULE:FREQ=YEARLY;INTERVAL=1;BYDAY=-1SU;BYMONTH=3
END:DAYLIGHT
BEGIN:STANDARD
TZOFFSETFROM:+0200
TZOFFSETTO:+0100
TZNAME:CET
DTSTART:19701025T030000
RRULE:FREQ=YEARLY;INTERVAL=1;BYDAY=-1SU;BYMONTH=10
END:STANDARD
END:VTIMEZONE
BEGIN:VEVENT
DTSTAMP:20260423T150638
DTSTART;TZID=Europe/Berlin:20260512T150000
DTEND;TZID=Europe/Berlin:20260512T163000
UID:26-133002E-20260512T150000@KVHSDONNERSBERGKREIS
SUMMARY:Geistig fit bleiben – Gedächtnistraining mit Freude (26-133002E) 
LOCATION:Eisenberg,Altes Pfarrhaus,Kath.Kirche Gartentor rechts,1.OG, Ra.2, Jakob Schiffer Str. 2, Zugang Kerzenheimer Straße, 67304 Eisenberg
END:VEVENT
BEGIN:VEVENT
DTSTAMP:20260423T150638
DTSTART;TZID=Europe/Berlin:20260519T150000
DTEND;TZID=Europe/Berlin:20260519T163000
UID:26-133002E-20260519T150000@KVHSDONNERSBERGKREIS
SUMMARY:Geistig fit bleiben – Gedächtnistraining mit Freude (26-133002E) 
LOCATION:Eisenberg,Altes Pfarrhaus,Kath.Kirche Gartentor rechts,1.OG, Ra.2, Jakob Schiffer Str. 2, Zugang Kerzenheimer Straße, 67304 Eisenberg
END:VEVENT
BEGIN:VEVENT
DTSTAMP:20260423T150638
DTSTART;TZID=Europe/Berlin:20260526T150000
DTEND;TZID=Europe/Berlin:20260526T163000
UID:26-133002E-20260526T150000@KVHSDONNERSBERGKREIS
SUMMARY:Geistig fit bleiben – Gedächtnistraining mit Freude (26-133002E) 
LOCATION:Eisenberg,Altes Pfarrhaus,Kath.Kirche Gartentor rechts,1.OG, Ra.2, Jakob Schiffer Str. 2, Zugang Kerzenheimer Straße, 67304 Eisenberg
END:VEVENT
BEGIN:VEVENT
DTSTAMP:20260423T150638
DTSTART;TZID=Europe/Berlin:20260602T150000
DTEND;TZID=Europe/Berlin:20260602T163000
UID:26-133002E-20260602T150000@KVHSDONNERSBERGKREIS
SUMMARY:Geistig fit bleiben – Gedächtnistraining mit Freude (26-133002E) 
LOCATION:Eisenberg,Altes Pfarrhaus,Kath.Kirche Gartentor rechts,1.OG, Ra.2, Jakob Schiffer Str. 2, Zugang Kerzenheimer Straße, 67304 Eisenberg
END:VEVENT
BEGIN:VEVENT
DTSTAMP:20260423T150638
DTSTART;TZID=Europe/Berlin:20260609T150000
DTEND;TZID=Europe/Berlin:20260609T163000
UID:26-133002E-20260609T150000@KVHSDONNERSBERGKREIS
SUMMARY:Geistig fit bleiben – Gedächtnistraining mit Freude (26-133002E) 
LOCATION:Eisenberg,Altes Pfarrhaus,Kath.Kirche Gartentor rechts,1.OG, Ra.2, Jakob Schiffer Str. 2, Zugang Kerzenheimer Straße, 67304 Eisenberg
END:VEVENT
BEGIN:VEVENT
DTSTAMP:20260423T150638
DTSTART;TZID=Europe/Berlin:20260616T150000
DTEND;TZID=Europe/Berlin:20260616T163000
UID:26-133002E-20260616T150000@KVHSDONNERSBERGKREIS
SUMMARY:Geistig fit bleiben – Gedächtnistraining mit Freude (26-133002E) 
LOCATION:Eisenberg,Altes Pfarrhaus,Kath.Kirche Gartentor rechts,1.OG, Ra.2, Jakob Schiffer Str. 2, Zugang Kerzenheimer Straße, 67304 Eisenberg
END:VEVENT
END:VCALENDAR