BEGIN:VCALENDAR
VERSION:2.0
PRODID:https://www.kufer.de/kuferweb / DE
METHOD:PUBLISH
CALSCALE:GREGORIAN
X-WR-TIMEZONE:Europe/Berlin
BEGIN:VTIMEZONE
TZID:Europe/Berlin
X-LIC-LOCATION:Europe/Berlin
BEGIN:DAYLIGHT
TZOFFSETFROM:+0100
TZOFFSETTO:+0200
TZNAME:CEST
DTSTART:19700329T020000
RRULE:FREQ=YEARLY;INTERVAL=1;BYDAY=-1SU;BYMONTH=3
END:DAYLIGHT
BEGIN:STANDARD
TZOFFSETFROM:+0200
TZOFFSETTO:+0100
TZNAME:CET
DTSTART:19701025T030000
RRULE:FREQ=YEARLY;INTERVAL=1;BYDAY=-1SU;BYMONTH=10
END:STANDARD
END:VTIMEZONE
BEGIN:VEVENT
DTSTAMP:20260421T145220
DTSTART;TZID=Europe/Berlin:20260331T170000
DTEND;TZID=Europe/Berlin:20260331T180000
UID:26-132003K-20260331T170000@KVHSDONNERSBERGKREIS
SUMMARY:Pilates - Sanftes Training für Körper und Geist (26-132003K) 
LOCATION:Kirchheimbolanden, Karl-Ritter-Schule, Raum 12, Schillerstraße 17, Schillerstraße 17, 67292 Kirchheimbolanden
END:VEVENT
BEGIN:VEVENT
DTSTAMP:20260421T145220
DTSTART;TZID=Europe/Berlin:20260407T170000
DTEND;TZID=Europe/Berlin:20260407T180000
UID:26-132003K-20260407T170000@KVHSDONNERSBERGKREIS
SUMMARY:Pilates - Sanftes Training für Körper und Geist (26-132003K) 
LOCATION:Kirchheimbolanden, Karl-Ritter-Schule, Raum 12, Schillerstraße 17, Schillerstraße 17, 67292 Kirchheimbolanden
END:VEVENT
BEGIN:VEVENT
DTSTAMP:20260421T145220
DTSTART;TZID=Europe/Berlin:20260414T170000
DTEND;TZID=Europe/Berlin:20260414T180000
UID:26-132003K-20260414T170000@KVHSDONNERSBERGKREIS
SUMMARY:Pilates - Sanftes Training für Körper und Geist (26-132003K) 
LOCATION:Kirchheimbolanden, Karl-Ritter-Schule, Raum 12, Schillerstraße 17, Schillerstraße 17, 67292 Kirchheimbolanden
END:VEVENT
BEGIN:VEVENT
DTSTAMP:20260421T145220
DTSTART;TZID=Europe/Berlin:20260421T170000
DTEND;TZID=Europe/Berlin:20260421T180000
UID:26-132003K-20260421T170000@KVHSDONNERSBERGKREIS
SUMMARY:Pilates - Sanftes Training für Körper und Geist (26-132003K) 
LOCATION:Kirchheimbolanden, Karl-Ritter-Schule, Raum 12, Schillerstraße 17, Schillerstraße 17, 67292 Kirchheimbolanden
END:VEVENT
BEGIN:VEVENT
DTSTAMP:20260421T145220
DTSTART;TZID=Europe/Berlin:20260428T170000
DTEND;TZID=Europe/Berlin:20260428T180000
UID:26-132003K-20260428T170000@KVHSDONNERSBERGKREIS
SUMMARY:Pilates - Sanftes Training für Körper und Geist (26-132003K) 
LOCATION:Kirchheimbolanden, Karl-Ritter-Schule, Raum 12, Schillerstraße 17, Schillerstraße 17, 67292 Kirchheimbolanden
END:VEVENT
BEGIN:VEVENT
DTSTAMP:20260421T145220
DTSTART;TZID=Europe/Berlin:20260505T170000
DTEND;TZID=Europe/Berlin:20260505T180000
UID:26-132003K-20260505T170000@KVHSDONNERSBERGKREIS
DESCRIPTION:Nachholtag für den 10.03.2026 (Doz. krank) 10.03.26 (*SK): 
SUMMARY:Pilates - Sanftes Training für Körper und Geist (26-132003K) 
LOCATION:Kirchheimbolanden, Karl-Ritter-Schule, Raum 12, Schillerstraße 17, Schillerstraße 17, 67292 Kirchheimbolanden
END:VEVENT
END:VCALENDAR