BEGIN:VCALENDAR
VERSION:2.0
PRODID:https://www.kufer.de/kuferweb / DE
METHOD:PUBLISH
CALSCALE:GREGORIAN
X-WR-TIMEZONE:Europe/Berlin
BEGIN:VTIMEZONE
TZID:Europe/Berlin
X-LIC-LOCATION:Europe/Berlin
BEGIN:DAYLIGHT
TZOFFSETFROM:+0100
TZOFFSETTO:+0200
TZNAME:CEST
DTSTART:19700329T020000
RRULE:FREQ=YEARLY;INTERVAL=1;BYDAY=-1SU;BYMONTH=3
END:DAYLIGHT
BEGIN:STANDARD
TZOFFSETFROM:+0200
TZOFFSETTO:+0100
TZNAME:CET
DTSTART:19701025T030000
RRULE:FREQ=YEARLY;INTERVAL=1;BYDAY=-1SU;BYMONTH=10
END:STANDARD
END:VTIMEZONE
BEGIN:VEVENT
DTSTAMP:20260421T173905
DTSTART;TZID=Europe/Berlin:20260430T183000
DTEND;TZID=Europe/Berlin:20260430T200000
UID:26-131009N-20260430T183000@KVHSDONNERSBERGKREIS
SUMMARY:Hatha-Yoga für Anfänger und Geübte IX (26-131009N) 
LOCATION:Rockenhausen, Anne-Frank Grundschule,  Brühlgasse 29,Gymnastikraum, , 67806 Rockenhausen
END:VEVENT
BEGIN:VEVENT
DTSTAMP:20260421T173905
DTSTART;TZID=Europe/Berlin:20260507T183000
DTEND;TZID=Europe/Berlin:20260507T200000
UID:26-131009N-20260507T183000@KVHSDONNERSBERGKREIS
SUMMARY:Hatha-Yoga für Anfänger und Geübte IX (26-131009N) 
LOCATION:Rockenhausen, Anne-Frank Grundschule,  Brühlgasse 29,Gymnastikraum, , 67806 Rockenhausen
END:VEVENT
BEGIN:VEVENT
DTSTAMP:20260421T173905
DTSTART;TZID=Europe/Berlin:20260521T183000
DTEND;TZID=Europe/Berlin:20260521T200000
UID:26-131009N-20260521T183000@KVHSDONNERSBERGKREIS
SUMMARY:Hatha-Yoga für Anfänger und Geübte IX (26-131009N) 
LOCATION:Rockenhausen, Anne-Frank Grundschule,  Brühlgasse 29,Gymnastikraum, , 67806 Rockenhausen
END:VEVENT
BEGIN:VEVENT
DTSTAMP:20260421T173905
DTSTART;TZID=Europe/Berlin:20260528T183000
DTEND;TZID=Europe/Berlin:20260528T200000
UID:26-131009N-20260528T183000@KVHSDONNERSBERGKREIS
SUMMARY:Hatha-Yoga für Anfänger und Geübte IX (26-131009N) 
LOCATION:Rockenhausen, Anne-Frank Grundschule,  Brühlgasse 29,Gymnastikraum, , 67806 Rockenhausen
END:VEVENT
BEGIN:VEVENT
DTSTAMP:20260421T173905
DTSTART;TZID=Europe/Berlin:20260611T183000
DTEND;TZID=Europe/Berlin:20260611T200000
UID:26-131009N-20260611T183000@KVHSDONNERSBERGKREIS
SUMMARY:Hatha-Yoga für Anfänger und Geübte IX (26-131009N) 
LOCATION:Rockenhausen, Anne-Frank Grundschule,  Brühlgasse 29,Gymnastikraum, , 67806 Rockenhausen
END:VEVENT
BEGIN:VEVENT
DTSTAMP:20260421T173905
DTSTART;TZID=Europe/Berlin:20260618T183000
DTEND;TZID=Europe/Berlin:20260618T200000
UID:26-131009N-20260618T183000@KVHSDONNERSBERGKREIS
SUMMARY:Hatha-Yoga für Anfänger und Geübte IX (26-131009N) 
LOCATION:Rockenhausen, Anne-Frank Grundschule,  Brühlgasse 29,Gymnastikraum, , 67806 Rockenhausen
END:VEVENT
BEGIN:VEVENT
DTSTAMP:20260421T173905
DTSTART;TZID=Europe/Berlin:20260625T183000
DTEND;TZID=Europe/Berlin:20260625T200000
UID:26-131009N-20260625T183000@KVHSDONNERSBERGKREIS
SUMMARY:Hatha-Yoga für Anfänger und Geübte IX (26-131009N) 
LOCATION:Rockenhausen, Anne-Frank Grundschule,  Brühlgasse 29,Gymnastikraum, , 67806 Rockenhausen
END:VEVENT
END:VCALENDAR