BEGIN:VCALENDAR
VERSION:2.0
PRODID:https://www.kufer.de/kuferweb / DE
METHOD:PUBLISH
CALSCALE:GREGORIAN
X-WR-TIMEZONE:Europe/Berlin
BEGIN:VTIMEZONE
TZID:Europe/Berlin
X-LIC-LOCATION:Europe/Berlin
BEGIN:DAYLIGHT
TZOFFSETFROM:+0100
TZOFFSETTO:+0200
TZNAME:CEST
DTSTART:19700329T020000
RRULE:FREQ=YEARLY;INTERVAL=1;BYDAY=-1SU;BYMONTH=3
END:DAYLIGHT
BEGIN:STANDARD
TZOFFSETFROM:+0200
TZOFFSETTO:+0100
TZNAME:CET
DTSTART:19701025T030000
RRULE:FREQ=YEARLY;INTERVAL=1;BYDAY=-1SU;BYMONTH=10
END:STANDARD
END:VTIMEZONE
BEGIN:VEVENT
DTSTAMP:20260420T050628
DTSTART;TZID=Europe/Berlin:20260624T180000
DTEND;TZID=Europe/Berlin:20260624T200000
UID:26-131008W-20260624T180000@KVHSDONNERSBERGKREIS
SUMMARY:Sommerspecial: Yoga im Flow (26-131008W) 
LOCATION:Winnweiler, Bürgermeister-Iselborn-Haus, Schlossstraße 51, 1. OG, Schlossstraße 51, 67722 Winnweiler
END:VEVENT
END:VCALENDAR