BEGIN:VCALENDAR
VERSION:2.0
PRODID:https://www.kufer.de/kuferweb / DE
METHOD:PUBLISH
CALSCALE:GREGORIAN
X-WR-TIMEZONE:Europe/Berlin
BEGIN:VTIMEZONE
TZID:Europe/Berlin
X-LIC-LOCATION:Europe/Berlin
BEGIN:DAYLIGHT
TZOFFSETFROM:+0100
TZOFFSETTO:+0200
TZNAME:CEST
DTSTART:19700329T020000
RRULE:FREQ=YEARLY;INTERVAL=1;BYDAY=-1SU;BYMONTH=3
END:DAYLIGHT
BEGIN:STANDARD
TZOFFSETFROM:+0200
TZOFFSETTO:+0100
TZNAME:CET
DTSTART:19701025T030000
RRULE:FREQ=YEARLY;INTERVAL=1;BYDAY=-1SU;BYMONTH=10
END:STANDARD
END:VTIMEZONE
BEGIN:VEVENT
DTSTAMP:20260421T173146
DTSTART;TZID=Europe/Berlin:20260429T184500
DTEND;TZID=Europe/Berlin:20260429T201500
UID:26-131008N-20260429T184500@KVHSDONNERSBERGKREIS
SUMMARY:Hatha-Yoga für Anfänger und Geübte VII (26-131008N) 
LOCATION:Rockenhausen, Anne-Frank Grundschule,  Brühlgasse 29,Gymnastikraum, , 67806 Rockenhausen
END:VEVENT
BEGIN:VEVENT
DTSTAMP:20260421T173146
DTSTART;TZID=Europe/Berlin:20260506T184500
DTEND;TZID=Europe/Berlin:20260506T201500
UID:26-131008N-20260506T184500@KVHSDONNERSBERGKREIS
SUMMARY:Hatha-Yoga für Anfänger und Geübte VII (26-131008N) 
LOCATION:Rockenhausen, Anne-Frank Grundschule,  Brühlgasse 29,Gymnastikraum, , 67806 Rockenhausen
END:VEVENT
BEGIN:VEVENT
DTSTAMP:20260421T173146
DTSTART;TZID=Europe/Berlin:20260520T184500
DTEND;TZID=Europe/Berlin:20260520T201500
UID:26-131008N-20260520T184500@KVHSDONNERSBERGKREIS
SUMMARY:Hatha-Yoga für Anfänger und Geübte VII (26-131008N) 
LOCATION:Rockenhausen, Anne-Frank Grundschule,  Brühlgasse 29,Gymnastikraum, , 67806 Rockenhausen
END:VEVENT
BEGIN:VEVENT
DTSTAMP:20260421T173146
DTSTART;TZID=Europe/Berlin:20260527T184500
DTEND;TZID=Europe/Berlin:20260527T201500
UID:26-131008N-20260527T184500@KVHSDONNERSBERGKREIS
SUMMARY:Hatha-Yoga für Anfänger und Geübte VII (26-131008N) 
LOCATION:Rockenhausen, Anne-Frank Grundschule,  Brühlgasse 29,Gymnastikraum, , 67806 Rockenhausen
END:VEVENT
BEGIN:VEVENT
DTSTAMP:20260421T173146
DTSTART;TZID=Europe/Berlin:20260610T184500
DTEND;TZID=Europe/Berlin:20260610T201500
UID:26-131008N-20260610T184500@KVHSDONNERSBERGKREIS
SUMMARY:Hatha-Yoga für Anfänger und Geübte VII (26-131008N) 
LOCATION:Rockenhausen, Anne-Frank Grundschule,  Brühlgasse 29,Gymnastikraum, , 67806 Rockenhausen
END:VEVENT
BEGIN:VEVENT
DTSTAMP:20260421T173146
DTSTART;TZID=Europe/Berlin:20260617T184500
DTEND;TZID=Europe/Berlin:20260617T201500
UID:26-131008N-20260617T184500@KVHSDONNERSBERGKREIS
SUMMARY:Hatha-Yoga für Anfänger und Geübte VII (26-131008N) 
LOCATION:Rockenhausen, Anne-Frank Grundschule,  Brühlgasse 29,Gymnastikraum, , 67806 Rockenhausen
END:VEVENT
BEGIN:VEVENT
DTSTAMP:20260421T173146
DTSTART;TZID=Europe/Berlin:20260624T184500
DTEND;TZID=Europe/Berlin:20260624T201500
UID:26-131008N-20260624T184500@KVHSDONNERSBERGKREIS
SUMMARY:Hatha-Yoga für Anfänger und Geübte VII (26-131008N) 
LOCATION:Rockenhausen, Anne-Frank Grundschule,  Brühlgasse 29,Gymnastikraum, , 67806 Rockenhausen
END:VEVENT
END:VCALENDAR